BEGIN:VCALENDAR
VERSION:2.0
CALSCALE:GREGORIAN
PRODID:-//MyApp//Calendar 1.0//EN
BEGIN:VEVENT
METHOD:PUBLISH
UID:65902@regionalniportaly.cz
DTSTAMP:20260425T115648Z
DTSTART;VALUE=DATE:20260604
DTEND;VALUE=DATE:20260605
SUMMARY:Sex\, drogy\, rock&roll
DESCRIPTION:Legendární začátek Frídy. Drsná\, vtipná a&nbsp\;pořád aktuální zpověď o&nbsp\;světě\, kde se mísí rocková energie\, vztahy a&nbsp\;hledání sebe sama. Základní linií je příběh neúspěšného mladého herce\, který se na základě vlastních názorů na život a&nbsp\;svobodného myšlení ocitne v&nbsp\;periferii společnosti a&nbsp\;uměleckého světa. První hra\, se kterou Frída v&nbsp\;roce 2000 vstoupila na scénu – a&nbsp\;která s&nbsp\;ní zůstala dodnes. Role\, kterou dříve hrála také Barbora Munzarová\, nyní převzala její dcera Anna Dvořáková. Generační spojení\, které dodává inscenaci novou jiskru.&nbsp\;Autor\, scénář a&nbsp\;režie: Dodo GombárHudba: David RotterKostýmy: Kamila PolívkováScéna: Dodo Gombár\, Martin TrnavskýHrají: Martin Trnavský\, Radim Novák\,Anna Dvořáková nebo Sarah HaváčováDélka představení: 90min bez přestávky
LOCATION:Davle
END:VEVENT
END:VCALENDAR