BEGIN:VCALENDAR
VERSION:2.0
CALSCALE:GREGORIAN
PRODID:-//MyApp//Calendar 1.0//EN
BEGIN:VEVENT
METHOD:PUBLISH
UID:64014@regionalniportaly.cz
DTSTAMP:20260419T140707Z
DTSTART;VALUE=DATE:20260516
DTEND;VALUE=DATE:20260517
SUMMARY:Muzikoterapie & meditace s čokoládovou ceremonií
DESCRIPTION:MUZIKOTERAPIE S KŘIŠŤÁLOVÝMI MÍSAMI\, VEDENÁ MEDITACE &amp\; RITUÁL PRAVÉ HORKÉ ČOKOLÁDYDopřejte si večer hlubokého odpočinku\, zklidnění a jemné péče o tělo i mysl.Zveme vás na relaxační setkání\, kde vás léčivé vibrace křišťálových mís provedou uvolněním napětí\, zpomalením mysli a návratem k vnitřní harmonii. Zvuk prostupuje celým prostorem i tělem a vytváří bezpečný prostor pro regeneraci a skutečný odpočinek.Součástí večera je také&nbsp\;vedená meditace\, která vás podpoří v propojení se sebou samými a hlubším vnímání přítomného okamžiku.Jedinečnou součástí setkání bude také zážitek s pravou horkou čokoládou – připravenou jako malý vědomý rituál potěšení smyslů.Její jemná vůně\, hřejivá chuť a pomalé vychutnávání podpoří pocit bezpečí\, uvolnění a příjemného spočinutí po zvukové lázni. Dopřejete si chvíli\, kdy nemusíte nic… jen být a nechat o sebe pečovat.Délka: 90 minutKde: STUDIO MOKSHA ŘÍČANY\, Masarykovo náměstí 65/28\, Říčany u PrahyJak setkání probíhá?Po většinu času pouze ležíte\, odpočíváte a necháváte se unášet léčivými tóny a vedenou meditací.Co s sebou?Pohodlné oblečení a ponožky.Podložky\, deky i bolstery jsou k dispozici.Pro větší komfort si můžete přinést polštářek a&nbsp\;škrabku na oči.Vhodné i pro úplné začátečníky – není potřeba žádná předchozí zkušenost.Těším se na společné ztišení 🤍Hana Seidlovácertifikovaná muzikoterapeutka📧 hanka.seidlova@gmail.com📞 774 898 808#muzikoterapie #meditace #zvukovalazen #relaxace #ricany #vedenameditace #sebepéče #Moksha 
LOCATION:Říčany
END:VEVENT
END:VCALENDAR