BEGIN:VCALENDAR
VERSION:2.0
CALSCALE:GREGORIAN
PRODID:-//MyApp//Calendar 1.0//EN
BEGIN:VEVENT
METHOD:PUBLISH
UID:62810@regionalniportaly.cz
DTSTAMP:20260422T012854Z
DTSTART;VALUE=DATE:20260319
DTEND;VALUE=DATE:20260320
SUMMARY:Husopas
DESCRIPTION:120 min velkoformátová projekce s vyprávěním o odvaze\, důvěře a létání člověka s divokými husami. Promítáme na vniřní scéně divadla\, pěkně v teple.&nbsp\;Doporučený věk 8+&nbsp\;
LOCATION:Říčany
END:VEVENT
END:VCALENDAR