BEGIN:VCALENDAR
VERSION:2.0
CALSCALE:GREGORIAN
PRODID:-//MyApp//Calendar 1.0//EN
BEGIN:VEVENT
METHOD:PUBLISH
UID:62159@regionalniportaly.cz
DTSTAMP:20260420T072922Z
DTSTART;VALUE=DATE:20260311
DTEND;VALUE=DATE:20260312
SUMMARY:Světoznámé kvarteto Cello Republic vystoupí v Říčanech
DESCRIPTION:Světoznámé kvarteto Cello Republic vystoupí ve středu 11. března v Říčanech.\nKoncert bude v říčanském KC Labuť odstartován ve středu 11. března v 19:00 hod. \n\nInformace o kapele: https://www.100promotion.net/cello_republic \nLink na předprodej vstupenek: https://www.ticketportal.cz/event/CELLO-REPUBLIC-12003169?idp=120008118.\n
LOCATION:Říčany
END:VEVENT
END:VCALENDAR