BEGIN:VCALENDAR
VERSION:2.0
CALSCALE:GREGORIAN
PRODID:-//MyApp//Calendar 1.0//EN
BEGIN:VEVENT
METHOD:PUBLISH
UID:61129@regionalniportaly.cz
DTSTAMP:20260421T184110Z
DTSTART;VALUE=DATE:20260320
DTEND;VALUE=DATE:20260321
SUMMARY:X. Reprezentační ples města Čelákovic
DESCRIPTION:
LOCATION:Čelákovice
END:VEVENT
END:VCALENDAR