BEGIN:VCALENDAR
VERSION:2.0
CALSCALE:GREGORIAN
PRODID:-//MyApp//Calendar 1.0//EN
BEGIN:VEVENT
METHOD:PUBLISH
UID:60133@regionalniportaly.cz
DTSTAMP:20260421T143846Z
DTSTART;VALUE=DATE:20251227
DTEND;VALUE=DATE:20251228
SUMMARY:Alenka v Říši divů - Černé divadlo
DESCRIPTION:Navazujíc na letitou tradici českých tvůrců trikových a animovaných filmů ( Jiřího Trnku\, Karla Zemana a Hermínu Týrlovou)\, jsme připravili představení plné kouzel\, triků a vizuálních efektů. Neuvěřitelná dobrodružství zvídavé Alenky zná nepochybně každý. V našem představení se však sny této malé dívky stanou skutečností na dosah rukou diváků. Ti se tak osobně setkají s obřím Bílým králíkem\, kouzelnou kočkou Šklíbou i nebezpečnou Šachovou královnu a jejím karetním vojskem. Unikátni triky umožní hercům v těsné blízkosti diváků létat\, zvětšovat se či mizet. Bizarní svět Carollovy "Alenky" dal National Black Light Theatre Prague šanci otevřít brány fantazie\, opustit realitu všedních dnů a vrátit se do dětských snů..Ponořte se s námi do snové krajiny\, kde nic není nemožné. Čeká na vás svět plný zázraků\, humoru a vizuálních efektů\, které okouzlí děti i dospělé. Připravte se na smích\, úžas a spoustu zábavy pro celou rodinu!&nbsp\;&nbsp\;
LOCATION:Doubek
END:VEVENT
END:VCALENDAR