BEGIN:VCALENDAR
VERSION:2.0
CALSCALE:GREGORIAN
PRODID:-//MyApp//Calendar 1.0//EN
BEGIN:VEVENT
METHOD:PUBLISH
UID:59917@regionalniportaly.cz
DTSTAMP:20260420T090459Z
DTSTART;VALUE=DATE:20251221
DTEND;VALUE=DATE:20251222
SUMMARY:Česká mše vánoční
DESCRIPTION:Tradiční představení České mše vánoční Jakuba Jana Ryby\, tentokrát v ryze předvánočním termínu. Srdečně zve Kamenický pěvecký sbor pod vedením nového mladého sbormistra Vojtěcha Čapka\, Jílovský pěvecký sbor Homunculi to vše za doprovodu Symfonického orchestru Dalibora Havlíčka. Přijďte se společně odpočinout si od předvánočního shonu a naladit se do vánoční atmosféry.
LOCATION:Kamenice
END:VEVENT
END:VCALENDAR