BEGIN:VCALENDAR
VERSION:2.0
CALSCALE:GREGORIAN
PRODID:-//MyApp//Calendar 1.0//EN
BEGIN:VEVENT
METHOD:PUBLISH
UID:59850@regionalniportaly.cz
DTSTAMP:20260421T114636Z
DTSTART;VALUE=DATE:20251218
DTEND;VALUE=DATE:20251219
SUMMARY:OUDIV - Bakaláři z paneláku
DESCRIPTION:Po roce jsme si opět připravili vtipné vánoční příběhy\, které napsal sám život.
LOCATION:Doubek
END:VEVENT
END:VCALENDAR