BEGIN:VCALENDAR
VERSION:2.0
CALSCALE:GREGORIAN
PRODID:-//MyApp//Calendar 1.0//EN
BEGIN:VEVENT
METHOD:PUBLISH
UID:59737@regionalniportaly.cz
DTSTAMP:20260421T190332Z
DTSTART;VALUE=DATE:20260409
DTEND;VALUE=DATE:20260410
SUMMARY:Ondřej Vetchý & Michal Novotný … jak je neznáte
DESCRIPTION:Ondřej Vetchý a Michal Novotný&nbsp\;vás zvou na jedinečný večer\, kde otevřeně\, s humorem a bez scénáře prozradí\, co jste ještě nikdy neslyšeli. Herci\, kteří spolu najezdí tisíce kilometrů\, vás teď vezmou s&nbsp\;sebou do auta – jen místo silnice pojedete jejich životem rovnou přímo v&nbsp\;sále!&nbsp\;Co vás čeká?Historky z divadelních šaten.Zákulisí natáčení.Odpovědi na vaše otázky – bez cenzury.To\, co se stane na jevišti\, už se nebude opakovat.Přijďte být součástí večera\, který se odehraje „jen mezi námi“.Před zahájením představení budou v&nbsp\;předsálích k&nbsp\;dispozici lístky\, na které můžete napsat dotazy pro herce\, případně si přineste svůj dotaz již napsaný z&nbsp\;domu a nebo se zeptejte herců v&nbsp\;průběhu vystoupení\, co vás zajímá.A na závěr se můžete těšit na autogramiádu.&nbsp\;&nbsp\;
LOCATION:Čelákovice
END:VEVENT
END:VCALENDAR