BEGIN:VCALENDAR
VERSION:2.0
CALSCALE:GREGORIAN
PRODID:-//MyApp//Calendar 1.0//EN
BEGIN:VEVENT
METHOD:PUBLISH
UID:59539@regionalniportaly.cz
DTSTAMP:20260423T093554Z
DTSTART;VALUE=DATE:20251130
DTEND;VALUE=DATE:20251201
SUMMARY:Husopas
DESCRIPTION:90 min velkoformátová projekce s vyprávěním o odvaze\, důvěře a létání člověka s divokými husami. Promítáme na vniřní scéně divadla\, pěkně v teple.&nbsp\;Doporučený věk 8+ .
LOCATION:Říčany
END:VEVENT
END:VCALENDAR