BEGIN:VCALENDAR
VERSION:2.0
CALSCALE:GREGORIAN
PRODID:-//MyApp//Calendar 1.0//EN
BEGIN:VEVENT
METHOD:PUBLISH
UID:58096@regionalniportaly.cz
DTSTAMP:20260423T092252Z
DTSTART;VALUE=DATE:20251023
DTEND;VALUE=DATE:20251024
SUMMARY:Husopas
DESCRIPTION:90 min velkoformátová projekce s vyprávěním o odvaze\, důvěře a létání člověka s divokými husami.
LOCATION:Říčany
END:VEVENT
END:VCALENDAR