BEGIN:VCALENDAR
VERSION:2.0
CALSCALE:GREGORIAN
PRODID:-//MyApp//Calendar 1.0//EN
BEGIN:VEVENT
METHOD:PUBLISH
UID:57146@regionalniportaly.cz
DTSTAMP:20260423T072658Z
DTSTART;VALUE=DATE:20251024
DTEND;VALUE=DATE:20251025
SUMMARY:Četnické humoresky
DESCRIPTION:Příběhy a písničky z dob první republiky.
LOCATION:Uhlířské Janovice
END:VEVENT
END:VCALENDAR