BEGIN:VCALENDAR
VERSION:2.0
CALSCALE:GREGORIAN
PRODID:-//MyApp//Calendar 1.0//EN
BEGIN:VEVENT
METHOD:PUBLISH
UID:56855@regionalniportaly.cz
DTSTAMP:20260423T054031Z
DTSTART;VALUE=DATE:20250926
DTEND;VALUE=DATE:20250927
SUMMARY:Elevátor
DESCRIPTION:ElevátorGabriel Pintilei / Elisabeta KučerováSouboj mezi patry„Halooo\, jsme ve výtahu!”Zaseklí ve výtahu\, uvězněni spolu… Dva teenageři. Náhoda. Opuštěná budova. Co se stane\, když se dveře výtahu neotevřou? Čas se zastaví a začíná boj o přežití. Extrémní situace odhaluje pravé tváře a pokládá otázky\, jak daleko jsme ochotni zajít\, abychom přežili? Inspirováno skutečným příběhem z Velké Británie.Hraje: Matouš Košař a Tereza Hladíková
LOCATION:Říčany
END:VEVENT
END:VCALENDAR