BEGIN:VCALENDAR
VERSION:2.0
CALSCALE:GREGORIAN
PRODID:-//MyApp//Calendar 1.0//EN
BEGIN:VEVENT
METHOD:PUBLISH
UID:54384@regionalniportaly.cz
DTSTAMP:20260423T040554Z
DTSTART;VALUE=DATE:20250904
DTEND;VALUE=DATE:20250905
SUMMARY:Igor Orozovič & CO. - Když chlap svléká tmu
DESCRIPTION:Nechte se unést hudebními příběhy!&nbsp\;Igor Orozovič není jen hvězda Činohry Národního divadla\, ale i osobitý zpěvák a skladatel\, který vás osloví svými autorskými písněmi plnými emocí\, poezie a jiskřivých textů.&nbsp\;&nbsp\;Spojuje v&nbsp\;nich šansonovou vášeň\, rockovou energii\, bluesovou hloubku i soulovou jemnost do osobitého hudebního stylu. Recenzenti zmiňují\, že Orozovičův charakteristicky temný hlas dodává jeho svérázným šansonům na hloubce.&nbsp\;Letní hudební tradice pokračuje!&nbsp\;Po úspěšných letních speciálech v Museu Kampa a na Vyšehradě přivítá Igor Orozovič své publikum na letošním letním koncertu v překrásném prostředí venkovní scény ve Voděrádkách (Praha – východ). Kromě osvědčených písní z alba&nbsp\;Když chlap svléká tmu\, které bylo v&nbsp\;širší nominaci na Cenu Anděl v kategorii&nbsp\;Sólový interpret\, se můžete těšit i na zcela nové hudební kousky a překvapení.&nbsp\;Igor Orozovič &amp\; COIgor Orozovič (zpěv\, klávesy)\, František Bořík (klávesy)\, Marek Novotný (kytara)\, a. m. almela (basa)\, David Landštof (bicí)
LOCATION:Říčany
END:VEVENT
END:VCALENDAR