BEGIN:VCALENDAR
VERSION:2.0
CALSCALE:GREGORIAN
PRODID:-//MyApp//Calendar 1.0//EN
BEGIN:VEVENT
METHOD:PUBLISH
UID:53936@regionalniportaly.cz
DTSTAMP:20260423T021525Z
DTSTART;VALUE=DATE:20250726
DTEND;VALUE=DATE:20250727
SUMMARY:Devadesátky na zámku Nelahozeves
DESCRIPTION:Devadesátky na zámku Nelahozeves!Přeneste se zpět do doby kazetových walkmanů\, barevných legín a legendárních hitů! Čeká vás večer plný těch největších pecek 90. let v kouzelném prostředí zámku Nelahozeves! Taneční parket pod hvězdami\, drinky jako za starých časů a atmosféra\, která vás vrátí zpět do doby\, kdy jsme pařili na Haddaway\, Snap!\, Vengaboys nebo 2 Unlimited.&nbsp\;DJs\, co rozjedou největší hity 90. let.Stylová výzdoba a světelná show.Dresscode vítán: 90's vibes!Bar s tematickými drinky.&nbsp\;Přijďte si užít večer\, kde se hudební minulost propojí se skvělou atmosférou současné párty – na zámku\, který se na jednu noc promění v místo plné hitů\, tance a vzpomínek.
LOCATION:Nelahozeves
END:VEVENT
END:VCALENDAR