BEGIN:VCALENDAR
VERSION:2.0
CALSCALE:GREGORIAN
PRODID:-//MyApp//Calendar 1.0//EN
BEGIN:VEVENT
METHOD:PUBLISH
UID:53519@regionalniportaly.cz
DTSTAMP:20260422T225925Z
DTSTART;VALUE=DATE:20250419
DTEND;VALUE=DATE:20250420
SUMMARY:Historický vlak na hrad Křivoklát
DESCRIPTION:Hrad Křivoklát otevírá své brány a zve k oslavám jara!Velikonoční jarmark s programem pro děti i dospělé\, ale také samostatná prohlídka hradních interiérů (bez průvodce\, s tištěnými informačními tabulemi). Těšit se můžete na velikonoční výzdobu\, která ke sváteční atmosféře neodmyslitelně patří.\nJízda zvláštního rychlíku s lokomotivou T478.1 lidově zvanou “Bardotka” a soupravou retro přípojných vozů Balm.\nOtevřeno bude také muzeum českých motocyklů JAWA a ČZ.\n \nJízdní řád vlaku R 91340:Říčany 07:59 – Praha-Zahradní Město 08:11 – Praha-Vršovice 08:17 – Praha-Smíchov 08:27  – Křivoklát 10:19\nJízdní řád vlaku R 91343:Křivoklát 15:25  – Praha-Smíchov 16:56 – Praha-Vršovice 17:05 – Praha-Zahradní Město 17:11 – Říčany 17:22
LOCATION:Říčany
END:VEVENT
END:VCALENDAR