BEGIN:VCALENDAR
VERSION:2.0
CALSCALE:GREGORIAN
PRODID:-//MyApp//Calendar 1.0//EN
BEGIN:VEVENT
METHOD:PUBLISH
UID:51596@regionalniportaly.cz
DTSTAMP:20260423T034400Z
DTSTART;VALUE=DATE:20250715
DTEND;VALUE=DATE:20250716
SUMMARY:Koncert filmové hudby pod širým nebem | Nelahozeves
DESCRIPTION:Smyčce Pražského filmového orchestru&nbsp\;pod taktovkou dirigenta Jiřího Korynty&nbsp\;přináší velkolepý koncert\, který představí pod širým nebem v&nbsp\;Nelahozevsi!Diváci se mohou&nbsp\;těšit na&nbsp\;skladby z filmů&nbsp\;Star Wars\, Pán Prstenů\, Games of Thrones\, Harry Potter\, Piráti z&nbsp\;Karibiku&nbsp\;a další známé melodie stříbrného plátna.Koncert bude bohatý na fantastickou filmovou hudbu od světově známých hudebních skladatelů\, jakými jsou např.&nbsp\;John Williams\,&nbsp\;Hans Zimmer\,&nbsp\;Howard Shore&nbsp\;nebo&nbsp\;James Horner.&nbsp\;: https://www.lobkowicz.cz/zamek-nelahozeves
LOCATION:Nelahozeves
END:VEVENT
END:VCALENDAR