BEGIN:VCALENDAR
VERSION:2.0
CALSCALE:GREGORIAN
PRODID:-//MyApp//Calendar 1.0//EN
BEGIN:VEVENT
METHOD:PUBLISH
UID:50211@regionalniportaly.cz
DTSTAMP:20260422T230003Z
DTSTART;VALUE=DATE:20250329
DTEND;VALUE=DATE:20250330
SUMMARY:Jiří Štědroň a Eva Hrušková
DESCRIPTION:Hudebně zábavné vystoupení Jiřího Štědroně a Evy Hruškové s názvem "Popelka a jak to bylo dál"
LOCATION:Uhlířské Janovice
END:VEVENT
END:VCALENDAR