BEGIN:VCALENDAR
VERSION:2.0
CALSCALE:GREGORIAN
PRODID:-//MyApp//Calendar 1.0//EN
BEGIN:VEVENT
METHOD:PUBLISH
UID:49481@regionalniportaly.cz
DTSTAMP:20260422T225111Z
DTSTART;VALUE=DATE:20250329
DTEND;VALUE=DATE:20250330
SUMMARY:Okresní myslivecký ples
DESCRIPTION:Tradiční myslivecký ples okresního mysliveckého spolku Praha východ.&nbsp\;
LOCATION:Čelákovice
END:VEVENT
END:VCALENDAR