BEGIN:VCALENDAR
VERSION:2.0
CALSCALE:GREGORIAN
PRODID:-//MyApp//Calendar 1.0//EN
BEGIN:VEVENT
METHOD:PUBLISH
UID:49301@regionalniportaly.cz
DTSTAMP:20260422T225944Z
DTSTART;VALUE=DATE:20250520
DTEND;VALUE=DATE:20250521
SUMMARY:Ať žije Hegerová - koncertní pocta královně šansonu
DESCRIPTION:Slavné písně Hany Hegerové v podání zpěvačky Zuzany Němcové Šmejkalové přinášejí jedinečný hudební zážitek. Hluboký\, temný hlas\, virtuózní klavírní doprovod Doubravky Linhartové a sofistikované bicí Jakuba Němce slibují nezapomenutelný večer\, který probudí i ty nejhlubší emoce.Přijďte zažít tento výjimečný koncert a nechat se unést odkazem královny&nbsp\;československého šansonu.Performing artists
LOCATION:Čelákovice
END:VEVENT
END:VCALENDAR