BEGIN:VCALENDAR
VERSION:2.0
CALSCALE:GREGORIAN
PRODID:-//MyApp//Calendar 1.0//EN
BEGIN:VEVENT
METHOD:PUBLISH
UID:48269@regionalniportaly.cz
DTSTAMP:20260422T083748Z
DTSTART;VALUE=DATE:20250118
DTEND;VALUE=DATE:20250119
SUMMARY:Stand-up Comedy Show ROZJETÝ BRÁNICE (Velké Popovice)
DESCRIPTION:Zveme vás na pořádnou Stand-up comedy show do&nbsp\;Restaurace Pod Ledem ve Velkých Popovicích!Vystoupí pro vás komediální duo&nbsp\;ROZJETÝ BRÁNICE!&nbsp\;Tuhle dvojku tvoří:David Klouda&nbsp\;–&nbsp\;Bývalý 160kilový cvalík\, který bůhvíproč nikdy nedělal sumo. I když hodně zhubnul\, stále je hrdým tlouštíkem a také o váze bude jeho stand-up.Karel Petrdlík&nbsp\;– Neřízená střela\, která nemluví jen ve chvíli\, kdy se nadechuje k dalšímu mluvení.Jako hosté vystoupí také&nbsp\;Lukáš Tomčal a Jiří Štraub.Přijďte se pobavit\, na tenhle večer jen tak nezapomenete!Počet lístků je omezen\, na místě už možná nebudou k dostání. Doporučujeme je koupit v předprodeji.Humoru zdar a těšíme se na vás!
LOCATION:Velké Popovice
END:VEVENT
END:VCALENDAR