BEGIN:VCALENDAR
VERSION:2.0
CALSCALE:GREGORIAN
PRODID:-//MyApp//Calendar 1.0//EN
BEGIN:VEVENT
METHOD:PUBLISH
UID:44405@regionalniportaly.cz
DTSTAMP:20260422T224539Z
DTSTART;VALUE=DATE:20250128
DTEND;VALUE=DATE:20250129
SUMMARY:Úvěr
DESCRIPTION:Inteligentní komedie o tom\, že o peníze se dá žádat mnoha způsoby.Do finančních záležitostí nikdy nezatahujte ženu\, v nejlepším případě skončíte bez střechy nad hlavou. Ředitel banky Gregorio&nbsp\;má skvělý život\, lukrativní&nbsp\;místo a krásnou ženu. A právě&nbsp\;ve chvíli\, kdy se cítí možná až příliš pevně v sedle\, objeví se nesolventní žadatel o&nbsp\;úvěr&nbsp\;Antonio.&nbsp\;Gregorio&nbsp\;mu žádost o&nbsp\;úvěr razantně zamítne. Antonio je ale neodbytný a vyhrožuje&nbsp\;mu\, že když nedostane úvěr\,&nbsp\;svede mu ženu. Má totiž obrovské&nbsp\;svůdcovské schopnosti a nikdy mu žádná neodolala.&nbsp\;Gregorio&nbsp\;mu&nbsp\;úvěr nedá\, ale raději zavolá své manželce\, aby si dala na Antonia pozor.&nbsp\;Jeho žena se rozčílí\,&nbsp\;že ji takhle ohrožuje&nbsp\;kvůli nějakému směšnému&nbsp\;úvěru&nbsp\;a nekompromisně&nbsp\;ho vyhodí z domu. Gregorio&nbsp\;chce svou ženu zpět\, ale neví\, jak to udělat. Aby svou ženu opět okouzlil\, musel by mít nějaké svůdcovské schopnosti\, ty ale nikdy neměl. A tak musí chtě nechtě požádat o pomoc zkušeného svůdníka Antonia. Pomůže Antonio svést zoufalému Gregoriovi jeho ženu? Dostane požadovaný úvěr? A kdo nad kým nakonec zvítězí?Hrají:&nbsp\;Martin Zounar\, Filip BlažekRežie:&nbsp\;Antonín ProcházkaPořádá Agentura JT Promotion s.r.o.Délka představení: 80 minut - bez přestávky.Vstupné: 490/ 450/ 420 Kč.
LOCATION:Čelákovice
END:VEVENT
END:VCALENDAR