BEGIN:VCALENDAR
VERSION:2.0
CALSCALE:GREGORIAN
PRODID:-//MyApp//Calendar 1.0//EN
BEGIN:VEVENT
METHOD:PUBLISH
UID:44248@regionalniportaly.cz
DTSTAMP:20260422T224458Z
DTSTART;VALUE=DATE:20250326
DTEND;VALUE=DATE:20250327
SUMMARY:OLYMPIC tour 2025
DESCRIPTION:Velká příležitost slyšet\, vidět a zažít na vlastní kůži ucelené kouzlo koncertu nestárnoucí české legendy\, kterou bezesporu skupina Olympic je.&nbsp\;A aby byl zážitek kompletní\, nepřijdete&nbsp\;o ty největší hity z šedesátileté historie kapely Olympic.&nbsp\;
LOCATION:Čelákovice
END:VEVENT
END:VCALENDAR