BEGIN:VCALENDAR
VERSION:2.0
CALSCALE:GREGORIAN
PRODID:-//MyApp//Calendar 1.0//EN
BEGIN:VEVENT
METHOD:PUBLISH
UID:44087@regionalniportaly.cz
DTSTAMP:20260422T145519Z
DTSTART;VALUE=DATE:20241009
DTEND;VALUE=DATE:20241010
SUMMARY:Koncert Radůza
DESCRIPTION:
LOCATION:Říčany
END:VEVENT
END:VCALENDAR