BEGIN:VCALENDAR
VERSION:2.0
CALSCALE:GREGORIAN
PRODID:-//MyApp//Calendar 1.0//EN
BEGIN:VEVENT
METHOD:PUBLISH
UID:44085@regionalniportaly.cz
DTSTAMP:20260423T145325Z
DTSTART;VALUE=DATE:20240927
DTEND;VALUE=DATE:20240928
SUMMARY:ABBA World Revival
DESCRIPTION:
LOCATION:Říčany
END:VEVENT
END:VCALENDAR