BEGIN:VCALENDAR
VERSION:2.0
CALSCALE:GREGORIAN
PRODID:-//MyApp//Calendar 1.0//EN
BEGIN:VEVENT
METHOD:PUBLISH
UID:44084@regionalniportaly.cz
DTSTAMP:20260422T125936Z
DTSTART;VALUE=DATE:20240924
DTEND;VALUE=DATE:20240925
SUMMARY:Třetí prst na levé ruce
DESCRIPTION:
LOCATION:Říčany
END:VEVENT
END:VCALENDAR