BEGIN:VCALENDAR
VERSION:2.0
CALSCALE:GREGORIAN
PRODID:-//MyApp//Calendar 1.0//EN
BEGIN:VEVENT
METHOD:PUBLISH
UID:44080@regionalniportaly.cz
DTSTAMP:20260423T104706Z
DTSTART;VALUE=DATE:20240821
DTEND;VALUE=DATE:20240822
SUMMARY:Proč muži neposlouchají a ženy neumějí číst v mapách
DESCRIPTION:
LOCATION:Říčany
END:VEVENT
END:VCALENDAR