BEGIN:VCALENDAR
VERSION:2.0
CALSCALE:GREGORIAN
PRODID:-//MyApp//Calendar 1.0//EN
BEGIN:VEVENT
METHOD:PUBLISH
UID:43162@regionalniportaly.cz
DTSTAMP:20260422T111339Z
DTSTART;VALUE=DATE:20240615
DTEND;VALUE=DATE:20240616
SUMMARY:Historickým vlakem do pivovaru Lipan
DESCRIPTION:Zvláštní vlak s lokomotivou Bardotka a červeno-krémovými vozy Balm na první elektrifikovanou trať v Česku tzv. Bechyňku. Návazná doprava RETRO autobusem Karosa B951 do pivovarského dvoru Lipan v Dražíči.\n \nJízdní řád Praha – Bechyně – Dražíč:VLAK: Praha hl.n. 8:35 – Praha-Zahradní Město 8:44 – Říčany 8:58 – Bechyně 11:30\nBUS: Bechyně 11:40 – pivovar Lipan Dražíč 12:00\n \nJízdní řád Dražíč – Bechyně – Praha:BUS: Pivovar Lipan Dražíč 15:00 – Bechyně 15:20\nVLAK: Bechyně 16:25 – Říčany 19:13 –  Praha-Zahradní Město 19:29 – Praha hl.n. 19:39
LOCATION:Říčany
END:VEVENT
END:VCALENDAR