BEGIN:VCALENDAR
VERSION:2.0
CALSCALE:GREGORIAN
PRODID:-//MyApp//Calendar 1.0//EN
BEGIN:VEVENT
METHOD:PUBLISH
UID:42236@regionalniportaly.cz
DTSTAMP:20260422T093326Z
DTSTART;VALUE=DATE:20240626
DTEND;VALUE=DATE:20240627
SUMMARY:Na Sto¡áka
DESCRIPTION:
LOCATION:Říčany
END:VEVENT
END:VCALENDAR