BEGIN:VCALENDAR
VERSION:2.0
CALSCALE:GREGORIAN
PRODID:-//MyApp//Calendar 1.0//EN
BEGIN:VEVENT
METHOD:PUBLISH
UID:42231@regionalniportaly.cz
DTSTAMP:20260422T111410Z
DTSTART;VALUE=DATE:20240604
DTEND;VALUE=DATE:20240605
SUMMARY:Benefiční koncert pro P3TULI
DESCRIPTION:
LOCATION:Říčany
END:VEVENT
END:VCALENDAR