BEGIN:VCALENDAR
VERSION:2.0
CALSCALE:GREGORIAN
PRODID:-//MyApp//Calendar 1.0//EN
BEGIN:VEVENT
METHOD:PUBLISH
UID:42228@regionalniportaly.cz
DTSTAMP:20260422T060408Z
DTSTART;VALUE=DATE:20240510
DTEND;VALUE=DATE:20240511
SUMMARY:Cliff Stevens (USA) - TOUR 2024
DESCRIPTION:
LOCATION:Říčany
END:VEVENT
END:VCALENDAR