BEGIN:VCALENDAR
VERSION:2.0
CALSCALE:GREGORIAN
PRODID:-//MyApp//Calendar 1.0//EN
BEGIN:VEVENT
METHOD:PUBLISH
UID:42224@regionalniportaly.cz
DTSTAMP:20260423T114321Z
DTSTART;VALUE=DATE:20240818
DTEND;VALUE=DATE:20240819
SUMMARY:Přednáška: Největší zabijáci v dějinách planety
DESCRIPTION:
LOCATION:Říčany
END:VEVENT
END:VCALENDAR