BEGIN:VCALENDAR
VERSION:2.0
CALSCALE:GREGORIAN
PRODID:-//MyApp//Calendar 1.0//EN
BEGIN:VEVENT
METHOD:PUBLISH
UID:42220@regionalniportaly.cz
DTSTAMP:20260422T040956Z
DTSTART;VALUE=DATE:20240517
DTEND;VALUE=DATE:20240518
SUMMARY:Muzejní noc v Říčanech: večer historické hudby
DESCRIPTION:
LOCATION:Říčany
END:VEVENT
END:VCALENDAR