BEGIN:VCALENDAR
VERSION:2.0
CALSCALE:GREGORIAN
PRODID:-//MyApp//Calendar 1.0//EN
BEGIN:VEVENT
METHOD:PUBLISH
UID:41802@regionalniportaly.cz
DTSTAMP:20260422T093527Z
DTSTART;VALUE=DATE:20240517
DTEND;VALUE=DATE:20240518
SUMMARY:Totální nasazení a hosté v Říčanech (Otevření Zony Svobody)
DESCRIPTION:Slavnostní zahájení sezony 2024 v areálu Zóna Svobody v Říčanech.Vystoupí kapely: Totální nasazení\, Deratizéři a GrafitSpojeno s narozeninovou oslavou.Časový harmonogram:18:00 - open18:30 - 19:30 / DERATIZÉŘI19:45 - 20:45 / TOTÁLNÍ NASAZENÍ21:15 - 22:00 / GRAFIT
LOCATION:Říčany
END:VEVENT
END:VCALENDAR