BEGIN:VCALENDAR
VERSION:2.0
CALSCALE:GREGORIAN
PRODID:-//MyApp//Calendar 1.0//EN
BEGIN:VEVENT
METHOD:PUBLISH
UID:41105@regionalniportaly.cz
DTSTAMP:20260422T222233Z
DTSTART;VALUE=DATE:20240417
DTEND;VALUE=DATE:20240418
SUMMARY:Václav Hudeček
DESCRIPTION:
LOCATION:Říčany
END:VEVENT
END:VCALENDAR