BEGIN:VCALENDAR
VERSION:2.0
CALSCALE:GREGORIAN
PRODID:-//MyApp//Calendar 1.0//EN
BEGIN:VEVENT
METHOD:PUBLISH
UID:40072@regionalniportaly.cz
DTSTAMP:20260422T021535Z
DTSTART;VALUE=DATE:20240316
DTEND;VALUE=DATE:20240317
SUMMARY:Ples městyse Škvorec 24
DESCRIPTION:Městys Škvorec vás zve na svůj další společenský ples. Tajemný a tématický název plesu zní... Inkognito.V průběhu večera se můžete těšit na bohatou tombolu (tombolenky jsou v ceně vstupenky)\, pestrý doprovodní program a&nbsp\;nevšední půlnoční překvapení.K tanci a poslechu nám&nbsp\;zahraje stejně jako vloni skvělá hudební a taneční skupina GurmaniaBand.&nbsp\;Sál bude otevřen již od 19:00. Vstup pouze ve společenském oděvu.Ples s tématickým názvem: Inkognito.Vstupenky v ceně 350 kč jsou&nbsp\;k dipozici pouze zde v&nbsp\;online předprodeji\, na SMS ticket portálu. Vyberte si prosím místo dle přiloženého plánku.&nbsp\;Vstup do&nbsp\;sálu sokolovny bude možný od&nbsp\;19:00Hudební produkce a&nbsp\;doprovodné akce od&nbsp\;20:00Konec plesu 17.&nbsp\;3.&nbsp\;2024&nbsp\;v&nbsp\;02:00
LOCATION:Škvorec
END:VEVENT
END:VCALENDAR