BEGIN:VCALENDAR
VERSION:2.0
CALSCALE:GREGORIAN
PRODID:-//MyApp//Calendar 1.0//EN
BEGIN:VEVENT
METHOD:PUBLISH
UID:39191@regionalniportaly.cz
DTSTAMP:20260422T062355Z
DTSTART;VALUE=DATE:20240509
DTEND;VALUE=DATE:20240510
SUMMARY:Halina Pawlowská – Manuál zralé ženy
DESCRIPTION:
LOCATION:Říčany
END:VEVENT
END:VCALENDAR