BEGIN:VCALENDAR
VERSION:2.0
CALSCALE:GREGORIAN
PRODID:-//MyApp//Calendar 1.0//EN
BEGIN:VEVENT
METHOD:PUBLISH
UID:39190@regionalniportaly.cz
DTSTAMP:20260422T005754Z
DTSTART;VALUE=DATE:20240204
DTEND;VALUE=DATE:20240205
SUMMARY:Michal Nesvadba – Michal je pajdulák
DESCRIPTION:
LOCATION:Říčany
END:VEVENT
END:VCALENDAR