BEGIN:VCALENDAR
VERSION:2.0
CALSCALE:GREGORIAN
PRODID:-//MyApp//Calendar 1.0//EN
BEGIN:VEVENT
METHOD:PUBLISH
UID:39185@regionalniportaly.cz
DTSTAMP:20260422T222037Z
DTSTART;VALUE=DATE:20240412
DTEND;VALUE=DATE:20240413
SUMMARY:Sto zvířat – Noční ptáci
DESCRIPTION:
LOCATION:Říčany
END:VEVENT
END:VCALENDAR