BEGIN:VCALENDAR
VERSION:2.0
CALSCALE:GREGORIAN
PRODID:-//MyApp//Calendar 1.0//EN
BEGIN:VEVENT
METHOD:PUBLISH
UID:39182@regionalniportaly.cz
DTSTAMP:20260422T205940Z
DTSTART;VALUE=DATE:20240407
DTEND;VALUE=DATE:20240408
SUMMARY:Bambulková show 2024
DESCRIPTION:
LOCATION:Říčany
END:VEVENT
END:VCALENDAR