BEGIN:VCALENDAR
VERSION:2.0
CALSCALE:GREGORIAN
PRODID:-//MyApp//Calendar 1.0//EN
BEGIN:VEVENT
METHOD:PUBLISH
UID:39181@regionalniportaly.cz
DTSTAMP:20260422T060318Z
DTSTART;VALUE=DATE:20240329
DTEND;VALUE=DATE:20240330
SUMMARY:Motorband a speciální host: Barock
DESCRIPTION:
LOCATION:Říčany
END:VEVENT
END:VCALENDAR