BEGIN:VCALENDAR
VERSION:2.0
CALSCALE:GREGORIAN
PRODID:-//MyApp//Calendar 1.0//EN
BEGIN:VEVENT
METHOD:PUBLISH
UID:39180@regionalniportaly.cz
DTSTAMP:20260422T011909Z
DTSTART;VALUE=DATE:20240319
DTEND;VALUE=DATE:20240320
SUMMARY:Rukojmí bez rizika
DESCRIPTION:
LOCATION:Říčany
END:VEVENT
END:VCALENDAR