BEGIN:VCALENDAR
VERSION:2.0
CALSCALE:GREGORIAN
PRODID:-//MyApp//Calendar 1.0//EN
BEGIN:VEVENT
METHOD:PUBLISH
UID:39179@regionalniportaly.cz
DTSTAMP:20260422T224406Z
DTSTART;VALUE=DATE:20240308
DTEND;VALUE=DATE:20240309
SUMMARY:Projekt 76 & Vejfuk
DESCRIPTION:
LOCATION:Říčany
END:VEVENT
END:VCALENDAR