BEGIN:VCALENDAR
VERSION:2.0
CALSCALE:GREGORIAN
PRODID:-//MyApp//Calendar 1.0//EN
BEGIN:VEVENT
METHOD:PUBLISH
UID:39178@regionalniportaly.cz
DTSTAMP:20260422T205723Z
DTSTART;VALUE=DATE:20240313
DTEND;VALUE=DATE:20240314
SUMMARY:Petr Spálený 80
DESCRIPTION:
LOCATION:Říčany
END:VEVENT
END:VCALENDAR