BEGIN:VCALENDAR
VERSION:2.0
CALSCALE:GREGORIAN
PRODID:-//MyApp//Calendar 1.0//EN
BEGIN:VEVENT
METHOD:PUBLISH
UID:39036@regionalniportaly.cz
DTSTAMP:20260422T003423Z
DTSTART;VALUE=DATE:20240223
DTEND;VALUE=DATE:20240224
SUMMARY:Koncert Wabi Daněk Tribute
DESCRIPTION:Vzpomínka na legendu trampské a folkové muziky Wabiho Daňka prostřednictvím jeho občasného spoluhráče a letitého kamaráda\, držitele ceny Svazu autorů a interpretů 2018\, Zlaté porty Vysočina a mnoha dalších\, písničkáře&nbsp\;Davida Alfika Dewettera\, který pro tento účel dal dohromady profesionální kapelu -&nbsp\;https://www.wabidanektribute.cz/ .Spolu s nimi si zazpíváte Wabiho neznámější písničky\, uslyšíte ale i pár neznámých\, až skoro raritních\, a vše je dopněno milým a vtipným průvodním slovem\, vzpomínkami veselými i k zamyšlení.
LOCATION:Louňovice
END:VEVENT
END:VCALENDAR