BEGIN:VCALENDAR
VERSION:2.0
CALSCALE:GREGORIAN
PRODID:-//MyApp//Calendar 1.0//EN
BEGIN:VEVENT
METHOD:PUBLISH
UID:38933@regionalniportaly.cz
DTSTAMP:20260422T003502Z
DTSTART;VALUE=DATE:20240301
DTEND;VALUE=DATE:20240302
SUMMARY:Stand up comedy solo show
DESCRIPTION:Stand up comedy solo show
LOCATION:Babice
END:VEVENT
END:VCALENDAR