BEGIN:VCALENDAR
VERSION:2.0
CALSCALE:GREGORIAN
PRODID:-//MyApp//Calendar 1.0//EN
BEGIN:VEVENT
METHOD:PUBLISH
UID:38853@regionalniportaly.cz
DTSTAMP:20260422T221621Z
DTSTART;VALUE=DATE:20240309
DTEND;VALUE=DATE:20240310
SUMMARY:Ples fotbalistů
DESCRIPTION:
LOCATION:Říčany
END:VEVENT
END:VCALENDAR