BEGIN:VCALENDAR
VERSION:2.0
CALSCALE:GREGORIAN
PRODID:-//MyApp//Calendar 1.0//EN
BEGIN:VEVENT
METHOD:PUBLISH
UID:38852@regionalniportaly.cz
DTSTAMP:20260422T021639Z
DTSTART;VALUE=DATE:20240316
DTEND;VALUE=DATE:20240317
SUMMARY:Reprezentační ples
DESCRIPTION:
LOCATION:Říčany
END:VEVENT
END:VCALENDAR