BEGIN:VCALENDAR
VERSION:2.0
CALSCALE:GREGORIAN
PRODID:-//MyApp//Calendar 1.0//EN
BEGIN:VEVENT
METHOD:PUBLISH
UID:38851@regionalniportaly.cz
DTSTAMP:20260422T210031Z
DTSTART;VALUE=DATE:20240405
DTEND;VALUE=DATE:20240406
SUMMARY:OLYMPIC – Trilogy Tour 2024
DESCRIPTION:
LOCATION:Říčany
END:VEVENT
END:VCALENDAR