BEGIN:VCALENDAR
VERSION:2.0
CALSCALE:GREGORIAN
PRODID:-//MyApp//Calendar 1.0//EN
BEGIN:VEVENT
METHOD:PUBLISH
UID:38603@regionalniportaly.cz
DTSTAMP:20260422T012903Z
DTSTART;VALUE=DATE:20240120
DTEND;VALUE=DATE:20240121
SUMMARY:První ples obce Mukařov
DESCRIPTION:
LOCATION:Mukařov
END:VEVENT
END:VCALENDAR